Workbook

Sheet 표지
A4: 2025년 씨튼수녀회사회복지원 2차 추경 예산서
A8: 46006
A10: 사회복지법인 씨튼수녀회사회복지원

Sheet 2025법인2차추경예산(총괄)
A1: 2025년 2차 추경 예산서(총괄)
A3: 법인명 : 사회복지법인 씨튼수녀회 사회복지원 | J3: 2025.01.01. ~ 2025. 12. 31. (단위: 원)
A5: 세 입 | H5: 세 출
A6: 관 | B6: 항 | C6: 목 | D6: 2025년 | F6: 증감(B)-(A) | H6: 관 | I6: 항 | J6: 목 | K6: 2025년 | M6: 증감(B)-(A)
D7: 1차추경 | E7: 2차추경 | F7: 금액 | G7: 비율(%) | K7: =D7 -> 1차추경 | L7: =E7 -> 2차추경 | M7: 금액 | N7: 비율(%)
A8: 재산 수입 | B8: 기본 재산 | D8: ='2025년2차추경 예산(세입)'!D7 -> 11000000 | E8: =E9 -> 11000000 | F8: =E8-D8 -> 0 | H8: 사 무 비 | I8: 인 건 비 | K8: =SUM(K9:K12) -> 35600000 | L8: =SUM(L9:L12) -> 35600000 | M8: =SUM(M9:M12) -> 0
C9: 임대료수입 | D9: 11000000 | E9: 11000000 | F9: =E9-D9 -> 0 | J9: 급 여 | K9: ='2025년2차추경예산(세출)'!D8 -> 27000000 | L9: ='2025년2차추경예산(세출)'!E8 -> 27000000 | M9: =L9-K9 -> 0 | N9: =M9/K9*100 -> 0
J10: 제수당 | K10: ='2025년2차추경예산(세출)'!D9 -> 2240000 | L10: ='2025년2차추경예산(세출)'!E9 -> 2240000 | M10: =L10-K10 -> 0 | N10: =M10/K10*100 -> 0
G11: ` | J11: 퇴직금 | K11: ='2025년2차추경예산(세출)'!D10 -> 3360000 | L11: ='2025년2차추경예산(세출)'!E10 -> 3360000 | M11: =L11-K11 -> 0 | N11: =M11/K11*100 -> 0
J12: 사회보험 | K12: ='2025년2차추경예산(세출)'!D11 -> 3000000 | L12: ='2025년2차추경예산(세출)'!E11 -> 3000000 | M12: =L12-K12 -> 0 | N12: =M12/K12*100 -> 0
I13: 업무추진비 | K13: =K14+K15 -> 21000000 | L13: =L14+L15 -> 21000000 | M13: =SUM(M14:M15) -> 0 | N13: =M13/K13*100 -> 0
J14: 기관운영비 | K14: ='2025년2차추경예산(세출)'!D13+'2025년2차추경예산(세출)'!D14+'2025년2차추경예산(세출)'!D15 -> 20000000 | L14: ='2025년2차추경예산(세출)'!E13+'2025년2차추경예산(세출)'!E14+'2025년2차추경예산(세출)'!E15 -> 20000000 | M14: =L14-K14 -> 0 | N14: 0
J15: 회의비 | K15: ='2025년2차추경예산(세출)'!D16 -> 1000000 | L15: ='2025년2차추경예산(세출)'!E16 -> 1000000 | M15: =L15-K15 -> 0 | N15: =M15/K15*100 -> 0
A16: 후원금 수 입 | B16: 후원금 수 입 | D16: =SUM(D17:D19) -> 91000000 | E16: =SUM(E17:E19) -> 91000000 | F16: =E16-D16 -> 0 | I16: 운 영 비 | K16: =SUM(K17:K22) -> 38700000 | L16: =SUM(L17:L22) -> 38700000 | M16: =L16-K16 -> 0
C17: 사랑심기 지정후원 | D17: ='2025년2차추경 예산(세입)'!D10 -> 73000000 | E17: ='2025년2차추경 예산(세입)'!E10 -> 0 | F17: =E17-D17 -> -73000000 | G17: =F17/D17*100 -> -100 | J17: 여 비 | K17: ='2025년2차추경예산(세출)'!D18 -> 1500000 | L17: ='2025년2차추경예산(세출)'!E18 -> 1500000 | M17: =L17-K17 -> 0 | N17: =M17/K17*100 -> 0
C18: 지정후원금 | D18: ='2025년2차추경 예산(세입)'!D11 -> 0 | E18: ='2025년2차추경 예산(세입)'!E11 -> 73000000 | F18: =E18-D18 -> 73000000 | J18: 수용비 및 수수료 | K18: ='2025년2차추경예산(세출)'!D19 -> 15000000 | L18: ='2025년2차추경예산(세출)'!E19 -> 15000000 | M18: =L18-K18 -> 0 | N18: =M18/K18*100 -> 0
C19: 비지정후원금 | D19: ='2025년2차추경 예산(세입)'!D12 -> 18000000 | E19: ='2025년2차추경 예산(세입)'!E12 -> 18000000 | F19: =E19-D19 -> 0 | G19: =F19/D19*100 -> 0 | J19: 공공요금 | K19: ='2025년2차추경예산(세출)'!D20 -> 5000000 | L19: ='2025년2차추경예산(세출)'!E20 -> 5000000 | M19: =L19-K19 -> 0 | N19: =M19/K19*100 -> 0
A20: 이월금 | B20: 이월금 | D20: =SUM(D21:D26) -> 390524283 | E20: =SUM(E21:E26) -> 390524283 | F20: =SUM(F21:F26) -> 0 | J20: 제세공과금 | K20: ='2025년2차추경예산(세출)'!D21 -> 10000000 | L20: ='2025년2차추경예산(세출)'!E21 -> 10000000 | M20: =L20-K20 -> 0 | N20: =M20/K20*100 -> 0
C21: 전년도이월금 | D21: ='2025년2차추경 예산(세입)'!D14 -> 226679176 | E21: ='2025년2차추경 예산(세입)'!E14 -> 226679176 | F21: =E21-D21 -> 0 | G21: =F21/D21*100 -> 0 | J21: 차량비 | K21: ='2025년2차추경예산(세출)'!D22 -> 1200000 | L21: ='2025년2차추경예산(세출)'!E22 -> 1200000 | M21: =L21-K21 -> 0 | N21: 0
J22: 기타운영비 | K22: ='2025년2차추경예산(세출)'!D23 -> 6000000 | L22: ='2025년2차추경예산(세출)'!E23 -> 6000000 | M22: =L22-K22 -> 0 | N22: =M22/K22*100 -> 0
C23: 전년도이월금 (후원금) | D23: ='2025년2차추경 예산(세입)'!D15 -> 63267111 | E23: ='2025년2차추경 예산(세입)'!E15 -> 63267111 | F23: =E23-D23 -> 0 | G23: =F23/D23*100 -> 0 | H23: 재산조성비 | I23: 시 설 비 | K23: =K24+K25 -> 15000000 | L23: =L24+L25 -> 15000000 | M23: =L23-K23 -> 0
J24: 자산취득비 | K24: ='2025년2차추경예산(세출)'!D25 -> 10000000 | L24: ='2025년2차추경예산(세출)'!E25 -> 10000000 | M24: =L24-K24 -> 0 | N24: =M24/K24*100 -> 0
C25: 전년도이월금 (목적기금) | D25: ='2025년2차추경 예산(세입)'!D16 -> 100577996 | E25: ='2025년2차추경 예산(세입)'!E16 -> 100577996 | F25: =E25-D25 -> 0 | G25: =F25/D25*100 -> 0 | J25: 시설장비유지비 | K25: ='2025년2차추경예산(세출)'!D26 -> 5000000 | L25: ='2025년2차추경예산(세출)'!E26 -> 5000000 | M25: =L25-K25 -> 0 | N25: =M25/K25*100 -> 0
H26: 사 업 비 | I26: 일반사업비 | J26: 목적기금마련사업 | K26: ='2025년2차추경예산(세출)'!D27 -> 73000000 | L26: ='2025년2차추경예산(세출)'!E27 -> 0 | M26: =L26-K26 -> -73000000 | N26: =M26/K26*100 -> -100
A27: 잡수입 | B27: 잡수입 | D27: =D28+D29+D30 -> 345500717 | E27: =E28+E29+E30 -> 345500717 | F27: =F28+F29+F30 -> 0 | H27: 전 출 금 | I27: 전 출 금 | K27: =SUM(K28:K33) -> 512184000 | L27: =SUM(L28:L33) -> 512184000 | M27: =SUM(M28:M33) -> 0
C28: 기타예금 이자수입 | D28: ='2025년2차추경 예산(세입)'!D18 -> 9000717 | E28: ='2025년2차추경 예산(세입)'!E18 -> 9000717 | F28: =E28-D28 -> 0 | G28: =F28/D28*100 -> 0 | J28: 직재전출금 | K28: ='2025년2차추경예산(세출)'!D29 -> 399784000 | L28: ='2025년2차추경예산(세출)'!E29 -> 397784000 | M28: =L28-K28 -> -2000000 | N28: =M28/K28*100 -> -0.50027015
C29: 기타잡수입 | D29: ='2025년2차추경 예산(세입)'!D19 -> 1500000 | E29: ='2025년2차추경 예산(세입)'!E19 -> 1500000 | F29: =E29-D29 -> 0 | G29: =F29/D29*100 -> 0 | J29: 직재전출금(후) | K29: ='2025년2차추경예산(세출)'!D30 -> 2400000 | L29: ='2025년2차추경예산(세출)'!E30 -> 5400000 | M29: =L29-K29 -> 3000000 | N29: 0
C30: 잡수입 | D30: ='2025년2차추경 예산(세입)'!D20 -> 335000000 | E30: ='2025년2차추경 예산(세입)'!E20 -> 335000000 | F30: =E30-D30 -> 0 | G30: =F30/D30*100 -> 0 | J30: 직재전출금(목적) | K30: ='2025년2차추경예산(세출)'!D31 -> 100000000 | L30: ='2025년2차추경예산(세출)'!E31 -> 100000000 | M30: =L30-K30 -> 0 | N30: 0
J31: 주간전출금 | K31: ='2025년2차추경예산(세출)'!D32 -> 9000000 | L31: ='2025년2차추경예산(세출)'!E32 -> 9000000 | M31: =L31-K31 -> 0 | N31: 0
J32: 주간전출금(후) | K32: ='2025년2차추경예산(세출)'!D33 -> 1000000 | L32: ='2025년2차추경예산(세출)'!E33 -> 0 | M32: =L32-K32 -> -1000000 | N32: 0
J33: 주간전출금(목적) | K33: ='2025년2차추경예산(세출)'!D34 -> 0 | L33: ='2025년2차추경예산(세출)'!E34 -> 0 | M33: =L33-K33 -> 0 | N33: 0
H34: 예비비 및기타 | I34: 예비비 및기타 | J34: 예 비 비 | K34: ='2025년2차추경예산(세출)'!D35 -> 142541000 | L34: ='2025년2차추경예산(세출)'!E35 -> 215541000 | M34: =L34-K34 -> 73000000 | N34: 0
A35: 합 계 | D35: =D8+D10+D16+D20+D27 -> 838025000 | E35: =E8+E10+E16+E20+E27 -> 838025000 | F35: =F8+F10+F16+F20+F27 -> 0 | G35: =F35/D35*100 -> 0 | H35: 합 계 | K35: =K8+K13+K16+K23+K26+K27+K34 -> 838025000 | L35: =L8+L13+L16+L23+L26+L27+L34 -> 838025000 | M35: =M8+M13+M16+M23+M26+M27+M34 -> 0 | N35: =M35/K35*100 -> 0

Sheet 2025년2차추경 예산(세입)
A1: 2025년 2차 추경 | E1: 세입 예산서
A3: ='2025법인2차추경예산(총괄)'!A3 -> 법인명 : 사회복지법인 씨튼수녀회 사회복지원 | G3: 2025.01.01. ~ 2025. 12.31. (단위: 원)
A5: 과 목 | D5: 2025년 | F5: 증 감 | G5: 산출내역
A6: 관 | B6: 항 | C6: 목 | D6: ='2025법인2차추경예산(총괄)'!D7 -> 1차추경 | E6: ='2025법인2차추경예산(총괄)'!E7 -> 2차추경
A7: 재산수입 | B7: 기본재산 | D7: =D8 -> 11000000 | E7: =E8 -> 11000000 | F7: =E7-D7 -> 0 | G7: 용봉동상가 임대수입(임차인:씨튼둥그네)
C8: 임대료수입 | D8: 11000000 | E8: 11000000
A9: 후원금수입 | B9: 후원금수입 | D9: =SUM(D10:D12) -> 91000000 | E9: 91000000 | F9: =E9-D9 -> 0
C10: 목적기금 | D10: 73000000 | E10: 0
C11: 지정후원금 | E11: 73000000 | F11: =E11-D11 -> 73000000 | G11: 사랑심기 지정
C12: 비지정 후원금 | D12: 18000000 | E12: 18000000 | F12: =E12-D12 -> 0 | G12: 정기후원금 1,500,000*12월
A13: 이 월 금 | B13: 이 월 금 | D13: =SUM(D14:D16) -> 390524283 | E13: =SUM(E14:E16) -> 390524283 | F13: =E13-D13 -> 0
C14: 전년도이월 | D14: 226679176 | E14: 226679176 | F14: =E14-D14 -> 0 | G14: 전년도이월금
C15: 전년도이월(후원금) | D15: 63267111 | E15: 63267111 | F15: =E15-D15 -> 0 | G15: 전년도이월글(후원금)
C16: 전년도이월 (목적기금) | D16: 100577996 | E16: 100577996 | F16: =E16-D16 -> 0 | G16: 전년도이월금(목적기금)
A17: 잡 수 입 | B17: 잡 수 입 | D17: =D18+D20+D19 -> 345500717 | E17: =E18+E20+E19 -> 345500717 | F17: =E17-D17 -> 0
C18: 기타예금 이자수입 | D18: 9000717 | E18: 9000717 | F18: =E18-D18 -> 0 | G18: 예금이자수입
C19: 기타잡수입 | D19: 1500000 | E19: 1500000 | F19: =E19-D19 -> 0 | G19: 환급금등
C20: 잡수입 | D20: 335000000 | E20: 335000000 | F20: =E20-D20 -> 0 | G20: 장애인고용장려금 (남26명/여18명)
A21: 합 계 | D21: =D7+D9+D13+D17 -> 838025000 | E21: =E7+E9+E13+E17 -> 838025000 | F21: =E21-D21 -> 0

Sheet 2025년2차추경예산(세출)
A1: ='2025년2차추경 예산(세입)'!A1:D1 -> 2025년 2차 추경 | E1: 세출 예산서
A3: ='2025법인2차추경예산(총괄)'!A3 -> 법인명 : 사회복지법인 씨튼수녀회 사회복지원 | G3: ='2025년2차추경 예산(세입)'!G3 -> 2025.01.01. ~ 2025. 12.31. (단위: 원)
A5: 과 목 | D5: 2025년 | F5: 증 감 | G5: 내 역
A6: 관 | B6: 항 | C6: 목 | D6: ='2025법인2차추경예산(총괄)'!D7 -> 1차추경 | E6: ='2025법인2차추경예산(총괄)'!E7 -> 2차추경
A7: 사 무 비 | B7: 인건비 | D7: =SUM(D8:D11) -> 35600000 | E7: =SUM(E8:E11) -> 35600000 | F7: =E7-D7 -> 0
C8: 급 여 | D8: 27000000 | E8: 27000000 | F8: =E8-D8 -> 0 | G8: 2024년 사회복지이용시설 기본급 권고 기준표 1호봉 2,240,000*12월
C9: 제수당 | D9: 2240000 | E9: 2240000 | F9: =E9-D9 -> 0 | G9: 명절상여금 (급여*50%*2회)
C10: 퇴직금 | D10: 3360000 | E10: 3360000 | F10: =E10-D10 -> 0 | G10: (급여+상여)/12
C11: 사회보험부담금 | D11: 3000000 | E11: 3000000 | F11: =E11-D11 -> 0 | G11: 사회보험부담금(건강보험)
B12: 업무추진비 | D12: =SUM(D13:D16) -> 21000000 | E12: =SUM(E13:E16) -> 21000000 | F12: =E12-D12 -> 0
C13: 기관운영비 | D13: 20000000 | E13: 20000000 | F13: =E13-D13 -> 0 | G13: 후원자 성탄,부활 감사선물
F14: =E14-D14 -> 0 | G14: 이사,감사,교통비 및 회의비,선물구입비
F15: =E15-D15 -> 0 | G15: 기관운영 및 유관기관의 업무협의 등 소요되는 경비
C16: 회의비 | D16: 1000000 | E16: 1000000 | F16: =E16-D16 -> 0 | G16: 이사회 및 회의 진행경비
B17: 운 영 비 | D17: =SUM(D18:D23) -> 38700000 | E17: =SUM(E18:E23) -> 38700000 | F17: =E17-D17 -> 0
C18: 여 비 | D18: 1500000 | E18: 1500000 | F18: =E18-D18 -> 0 | G18: 법인 임,직원의 출장여비
C19: 수용비 및 수수료 | D19: 15000000 | E19: 15000000 | F19: =E19-D19 -> 0 | G19: 소식지,카드제작,복사용지,사무용품비,소모품,송금수수료,회계자문료등
C20: 공공요금 | D20: 5000000 | E20: 5000000 | F20: =E20-D20 -> 0 | G20: 후원회 관련 우편물 발송에 따른 비용, 기부금영수증 발송비용등.
C21: 제세공과금 | D21: 10000000 | E21: 10000000 | F21: =E21-D21 -> 0 | G21: 법인균등할 주민세,재산세,토지세,협회비,부가세,보험료 등
C22: 차 량 비 | D22: 1200000 | E22: 1200000 | F22: =E22-D22 -> 0 | G22: 업무를 위한 차량주유 및 이용료
C23: 기타운영비 | D23: 6000000 | E23: 6000000 | F23: =E23-D23 -> 0 | G23: 교육비,용봉건물유지비,그밖의 운영경비로 분류되지 않은 경비
A24: 재산조성비 | B24: 시 설 비 | D24: =D25+D26 -> 15000000 | E24: =E25+E26 -> 15000000 | F24: =E24-D24 -> 0
C25: 자산취득비 | D25: 10000000 | E25: 10000000 | F25: =E25-D25 -> 0 | G25: 법인비품구입비 기타 자산취득비
C26: 시설장비유지비 | D26: 5000000 | E26: 5000000 | F26: =E26-D26 -> 0 | G26: 기타시설장비 유지비 및 비품수선비
A27: 사 업 비 | B27: 일반사업비 | C27: 목적기금마련사업 | D27: 73000000 | E27: 0 | F27: =E27-D27 -> -73000000
A28: 전 출 금 | B28: 전 출 금 | D28: =SUM(D29:D34) -> 512184000 | E28: =SUM(E29:E34) -> 512184000 | F28: =E28-D28 -> 0
C29: 직 재 전 출 금 | D29: 399784000 | E29: 397784000 | F29: =E29-D29 -> -2000000 | G29: 씨튼장애인직업재활센터 법인전출금1차추경 3,400,000을 2,400,000으로오류 기재. 2차추경 (금액 카페1,000,000 식비1,400,000 진성주식2,000,000) 2025년 지정후원금 5,400,000에 대한 추경
C30: 직재전출금(후) | D30: 2400000 | E30: 5400000 | F30: =E30-D30 -> 3000000
C31: 직재전출금(목적) | D31: 100000000 | E31: 100000000 | F31: =E31-D31 -> 0
C32: 주 간 전 출 금 | D32: 9000000 | E32: 9000000 | F32: =E32-D32 -> 0
C33: 주간전출금(후) | D33: 1000000 | E33: 0 | F33: =E33-D33 -> -1000000
C34: 주간전출금(목적) | D34: 0 | E34: 0 | F34: =E34-D34 -> 0
A35: 예비비및기타 | B35: 예비비및기타 | C35: 예비비 | D35: 142541000 | E35: 215541000 | F35: =E35-D35 -> 73000000
A36: 합 계 | D36: =D7+D12+D17+D24+D27+D28+D35 -> 838025000 | E36: =E7+E12+E17+E24+E27+E28+E35 -> 838025000 | F36: =F7+F12+F17+F24+F27+F28+F35 -> 0

Sheet Sheet1
